BEGIN:VCALENDAR
VERSION:2.0
PRODID:-//Communication Design, City Tech - CUNY - ECPv6.15.20//NONSGML v1.0//EN
CALSCALE:GREGORIAN
METHOD:PUBLISH
X-ORIGINAL-URL:https://citytech.design
X-WR-CALDESC:Events for Communication Design, City Tech - CUNY
REFRESH-INTERVAL;VALUE=DURATION:PT1H
X-Robots-Tag:noindex
X-PUBLISHED-TTL:PT1H
BEGIN:VTIMEZONE
TZID:UTC
BEGIN:STANDARD
TZOFFSETFROM:+0000
TZOFFSETTO:+0000
TZNAME:UTC
DTSTART:20210101T000000
END:STANDARD
END:VTIMEZONE
BEGIN:VEVENT
DTSTART;TZID=UTC:20220804T120000
DTEND;TZID=UTC:20220804T190000
DTSTAMP:20260424T013517
CREATED:20220801T180106Z
LAST-MODIFIED:20220804T025606Z
UID:150605-1659614400-1659639600@citytech.design
SUMMARY:Preview a Course: Video Production for Commercials.
DESCRIPTION:Are you interested in advertising\, video\, motion design\, or want to expand your skill set?\nJoin us via Zoom for a free one-hour exploration into COMD 3620 Video Production for Commercials where you can see student work\, ask questions\, learn about the projects\, meet the course leader\, and more! \nWe are offering two-time slots for this free session on Thursday Aug. 4 from 12-1pm or 6-7pm.  \nCOMD 3620 counts as a skills course in Degree Works and runs fall semesters only on Fridays from 6-920pm.  \nFor questions\, email Professor Kapusinski at: jkapusinski@citytech.cuny.edu \n\nRegister for Event
URL:https://citytech.design/event/preview-a-course-video-production-for-commercials/
ATTACH;FMTTYPE=image/jpeg:https://citytech.design/wp-content/uploads/2022/07/ezgif.com-gif-maker.jpg
END:VEVENT
BEGIN:VEVENT
DTSTART;TZID=UTC:20220524T140000
DTEND;TZID=UTC:20220524T170000
DTSTAMP:20260424T013517
CREATED:20220427T010634Z
LAST-MODIFIED:20220428T232051Z
UID:150368-1653400800-1653411600@citytech.design
SUMMARY:Spring 22 Portfolio Review
DESCRIPTION:
URL:https://citytech.design/event/spring-22-portfolio-review/
LOCATION:The Pearl Bldg\, 259 Adams St\, Brooklyn\, 11201\, United States
ATTACH;FMTTYPE=image/jpeg:https://citytech.design/wp-content/uploads/2019/10/oh__img74.jpg
END:VEVENT
BEGIN:VEVENT
DTSTART;TZID=UTC:20220331T120000
DTEND;TZID=UTC:20220331T140000
DTSTAMP:20260424T013517
CREATED:20220323T203245Z
LAST-MODIFIED:20220324T114708Z
UID:150268-1648728000-1648735200@citytech.design
SUMMARY:Fall 22 Info-Session Day
DESCRIPTION:COMD AAS/BFA Info-Session and Senior Orientation Events\nCome to the Pearl Thursday and find out more info about Fall 2022\, meet clubs\, and talk to advisors.  \n  \nFor students about to take 1000-3000 level classes in the Summer/Fall 2022.\nLearn more about the program\, career options\, and meet your advisor in person to make sure you’re on track. \nFor students about to take Portfolio\, Senior Project\, or Internship classes in the Summer/Fall 2022.\nGet an inside look at what to expect from those classes\, how to register for the correct section\, and prepare for life after you graduate. \nAlso\, meet your fellow classmates and check out some of the COMD clubs.  \n\nRegister for Event
URL:https://citytech.design/event/fall-22-info-session-day/
LOCATION:The Pearl Bldg\, 259 Adams St\, Brooklyn\, 11201\, United States
CATEGORIES:Advisement
ATTACH;FMTTYPE=image/jpeg:https://citytech.design/wp-content/uploads/2022/03/Info-session-day2-scaled.jpg
END:VEVENT
END:VCALENDAR